BEGIN:VCALENDAR
VERSION:2.0
PRODID:-//The Waterland Blog - ECPv6.15.20//NONSGML v1.0//EN
CALSCALE:GREGORIAN
METHOD:PUBLISH
X-WR-CALNAME:The Waterland Blog
X-ORIGINAL-URL:https://waterlandblog.com
X-WR-CALDESC:Events for The Waterland Blog
REFRESH-INTERVAL;VALUE=DURATION:PT1H
X-Robots-Tag:noindex
X-PUBLISHED-TTL:PT1H
BEGIN:VTIMEZONE
TZID:America/Los_Angeles
BEGIN:DAYLIGHT
TZOFFSETFROM:-0800
TZOFFSETTO:-0700
TZNAME:PDT
DTSTART:20250309T100000
END:DAYLIGHT
BEGIN:STANDARD
TZOFFSETFROM:-0700
TZOFFSETTO:-0800
TZNAME:PST
DTSTART:20251102T090000
END:STANDARD
BEGIN:DAYLIGHT
TZOFFSETFROM:-0800
TZOFFSETTO:-0700
TZNAME:PDT
DTSTART:20260308T100000
END:DAYLIGHT
BEGIN:STANDARD
TZOFFSETFROM:-0700
TZOFFSETTO:-0800
TZNAME:PST
DTSTART:20261101T090000
END:STANDARD
BEGIN:DAYLIGHT
TZOFFSETFROM:-0800
TZOFFSETTO:-0700
TZNAME:PDT
DTSTART:20270314T100000
END:DAYLIGHT
BEGIN:STANDARD
TZOFFSETFROM:-0700
TZOFFSETTO:-0800
TZNAME:PST
DTSTART:20271107T090000
END:STANDARD
END:VTIMEZONE
BEGIN:VEVENT
DTSTART;VALUE=DATE:20260414
DTEND;VALUE=DATE:20260427
DTSTAMP:20260424T014132
CREATED:20260402T190015Z
LAST-MODIFIED:20260402T190015Z
UID:182743-1776124800-1777247999@waterlandblog.com
SUMMARY:Six-week road closure planned for part of 16th Ave South in Des Moines starting April 14
DESCRIPTION:A six-week road closure is scheduled for a portion of 16th Ave South in Des Moines beginning Tuesday\, April 14\, 2026\, according to the City of Des Moines. \nThe closure will remain in place through Tuesday\, May 26\, and will affect 16th Ave South between South 250th Street and 14th Place South (map below). \nCity officials said the closure is necessary to install a sewer force main underneath the North Twin Bridge over the North Fork of McSorely Creek. \nA detour will be in place directing drivers around the work site and over to Marine View Drive. \nResidents who live within the closure area will continue to have access to their homes\, but vehicles will not be permitted to travel across the bridge during the construction period. \nFor more information\, residents can contact Ryan Phelan at (206) 824-4960 or by email at ryan@midwaysewer.org.
URL:https://waterlandblog.com/event/six-week-road-closure-planned-for-part-of-16th-ave-south-in-des-moines-starting-april-14/
LOCATION:25000 block of 16th Ave South
ATTACH;FMTTYPE=image/jpeg:https://waterlandblog.com/wp-content/uploads/2026/03/WLB-DMRoadClosureApril26.jpg
END:VEVENT
BEGIN:VEVENT
DTSTART;TZID=America/Los_Angeles:20260422T100000
DTEND;TZID=America/Los_Angeles:20260422T140000
DTSTAMP:20260424T014132
CREATED:20260312T162223Z
LAST-MODIFIED:20260421T204023Z
UID:182337-1776852000-1776866400@waterlandblog.com
SUMMARY:City of Des Moines to host community shredding event April 22 at Activity Center
DESCRIPTION:Residents in Des Moines will have an opportunity to safely dispose of sensitive documents during a community shredding event on Wednesday\, April 22 hosted by the City of Des Moines. \nAccording to the city\, the shredding event will be held Wednesday\, April 22\, 2026\, from 10 a.m. to 2 p.m. at the Des Moines Activity Center (map below). \nThe event is open to all residents and allows participants to securely shred common personal documents such as receipts\, bills\, file folders\, envelopes\, bank statements and cancelled checks. Staples are permitted with the documents. \nCity officials note that several materials will not be accepted for shredding\, including cardboard\, newspapers\, boxes\, X-rays and plastic items. \nThe shredding event is intended to help residents protect personal information by safely destroying documents that may contain sensitive data. \nResidents seeking more information can contact the Des Moines Activity Center at (206) 878-1642\, according to the city.
URL:https://waterlandblog.com/event/city-of-des-moines-to-host-community-shredding-event-april-22-at-activity-center/
LOCATION:Des Moines Activity Center\, 2045 South 216th Street\, Des Moines\, WA\, 98198\, United States
ATTACH;FMTTYPE=image/jpeg:https://waterlandblog.com/wp-content/uploads/2026/03/WLB-DMShreddingEvent042226-scaled.jpg
END:VEVENT
END:VCALENDAR